BEGIN:VCALENDAR
VERSION:2.0
PRODID:-//BRMT Canada - ECPv6.15.20//NONSGML v1.0//EN
CALSCALE:GREGORIAN
METHOD:PUBLISH
X-WR-CALNAME:BRMT Canada
X-ORIGINAL-URL:https://brmtcanada.com
X-WR-CALDESC:Events for BRMT Canada
REFRESH-INTERVAL;VALUE=DURATION:PT1H
X-Robots-Tag:noindex
X-PUBLISHED-TTL:PT1H
BEGIN:VTIMEZONE
TZID:America/Toronto
BEGIN:DAYLIGHT
TZOFFSETFROM:-0500
TZOFFSETTO:-0400
TZNAME:EDT
DTSTART:20250309T070000
END:DAYLIGHT
BEGIN:STANDARD
TZOFFSETFROM:-0400
TZOFFSETTO:-0500
TZNAME:EST
DTSTART:20251102T060000
END:STANDARD
BEGIN:DAYLIGHT
TZOFFSETFROM:-0500
TZOFFSETTO:-0400
TZNAME:EDT
DTSTART:20260308T070000
END:DAYLIGHT
BEGIN:STANDARD
TZOFFSETFROM:-0400
TZOFFSETTO:-0500
TZNAME:EST
DTSTART:20261101T060000
END:STANDARD
BEGIN:DAYLIGHT
TZOFFSETFROM:-0500
TZOFFSETTO:-0400
TZNAME:EDT
DTSTART:20270314T070000
END:DAYLIGHT
BEGIN:STANDARD
TZOFFSETFROM:-0400
TZOFFSETTO:-0500
TZNAME:EST
DTSTART:20271107T060000
END:STANDARD
END:VTIMEZONE
BEGIN:VEVENT
DTSTART;VALUE=DATE:20260808
DTEND;VALUE=DATE:20260810
DTSTAMP:20260423T091637
CREATED:20260408T213657Z
LAST-MODIFIED:20260416T005303Z
UID:3939-1786147200-1786319999@brmtcanada.com
SUMMARY:BRMT for Early Childhood Education Games and Activities to Assist Reflex Integration
DESCRIPTION:Explore an Engaging Course on Primitive Reflexes\n\n\nAre you in search of a fun course filled with games and activities to learn about primitive reflexes and how to integrate them into your classroom\, home\, or therapy center? \n\n\nIn this two-day workshop\, you’ll receive a comprehensive introduction to primitive reflexes alongside rhythmic movements that can be easily implemented in your program. \n\n\nThe sessions will be led by a BRMT instructor boasting over 30 years of experience as an elementary educator.\nDiscover how to effectively apply rhythmic movements  with young children.\nGain valuable insights into identifying and understanding primitive reflexes that influence their motor skills\, emotional growth\, and cognitive development.\n\n\nRhythmic movements and games are specially adapted to help support integration of the following reflexes: Moro\, Fear Paralysis\, Tonic Labyrinthine (TLR)\, Landau\, Spinal Galant\, Amphibian\, Babinski\, Hand Grasp\, Symmetrical Tonic Neck Reflex (STNR)\, Asymmetrical Tonic Neck Reflex (ATNR). \nCourse location: \n185 Frobisher Dr. Unit #2Waterloo\, Ontario\, Canada N2V 2E6 \nCourse instructor: \nLiz Jones-Twomey \nCourse date & time: \nAugust 8 & 9\, 20269:00 AM – 5:00 pm each day \nCourse cost: \nAll prices include materials. \nEarly Bird Price  — $450.00(If you register by July 8\, 2026) \nRegular Price — $475.00 \nReview Price — $275.00*proof of certificate in BRMT training required \n$100 non-refundable deposit is required. \nRegistration: \nRegistration deadline is July 31\, 2026. \nPrerequisite: None \nTwo registration options: \n\nClick the Register button below and pay by credit card\nContact Liz at jonestwomey@rogers.com to register and pay by e-transfer\n\n			\n				Register
URL:https://brmtcanada.com/event/brmt-for-early-childhood-education-aug-2026/
CATEGORIES:BRMT for Early Childhood Education
END:VEVENT
BEGIN:VEVENT
DTSTART;TZID=America/Toronto:20260810T090000
DTEND;TZID=America/Toronto:20260811T170000
DTSTAMP:20260423T091637
CREATED:20260312T001313Z
LAST-MODIFIED:20260312T001313Z
UID:3926-1786352400-1786467600@brmtcanada.com
SUMMARY:BRMT Level Three: Rhythmic Movement Training and Primitive Reflexes (In Person)
DESCRIPTION:This course addresses how our reading and writing skills are directly related to the integration of specific primitive reflexes. Reformulated together with the most prominent optometrists in Spain\, Dr. Harald Blomberg brought us an innovative vision of rhythmic movements accompanied with specific visual exercises. \nDuring this 16 hour course\, participants will: \n\nLearn to observe and evaluate visual disorders\nUnderstand how reading and writing challenges may be due to retained or unintegrated primitive reflexes\nDiscover how early motor development is related to a vision challenge\nExamine theories about the causes of dyslexia\nLearn the connections between hand and feet reflexes and speech challenges\nExplore valuable exercises and technique to integrate primitive reflexes and improve reading and writing skills\n\n Learn how to test for the following primitive reflexes: \n\nAsymmetric Tonic Neck Reflex (ATNR)\nPalmar/Babkin Reflex\nPlantar Reflex\nRooting Reflex\nHand Grasp and Hand Pulling Reflex\nTonic Labyrinthine Reflex (TLR)\nSymmetrical Tonic Neck Reflex (STNR)\nFear Paralysis\nMoro Reflex\n\nCourse location: \n185 Frobisher Dr\, Unit 2\, Waterloo N2V 2G4 \nCourse instructor: Liz Jones-Twomey \nCourse dates and times:  \nAugust 10 & 11\, 20269:00 AM – 5:00 pm each day \nCourse cost:  \nEarly Bird Price  — $500.00(If you register by July 18\, 2026) \nRegular Price — $525.00 \nReview Price — $275.00*proof of certificate in BRMT training required \n$100 non-refundable deposit is required. \nMaterials provided: manual\, translucent eye patch\, brock string\, vision stick and eye cover is included in the price. \nRegistration:  \nRegistration closes August 1\, 2026. \nPrerequisite: BRMT Level OneHighly recommended: BRMT Level Two \nTwo registration options: \n\nClick the Register button below and pay by credit card.\nContact Liz at jonestwomey@rogers.com to register and pay by e-transfer.\n\nClass refund policy \nA full refund will be provided if participant cancels prior to 14 days before the start of a course\, minus a 5% processing fee. If a participant cancels between 8-13 days before the start of the class\, they will forfeit their $100 deposit. Their remaining balance can be put towards a future class or be refunded. \nAny cancellations made within 7 days of the start of a course are non-refundable\, but tuition may be put towards a future class on a case-by-case basis at the instructor’s discretion. \n			\n				Register
URL:https://brmtcanada.com/event/brmt-level-three-august-2026/
CATEGORIES:BRMT Level Three,BRMT Levels
END:VEVENT
END:VCALENDAR