BEGIN:VCALENDAR
VERSION:2.0
PRODID:-//BRMT Canada - ECPv6.15.20//NONSGML v1.0//EN
CALSCALE:GREGORIAN
METHOD:PUBLISH
X-ORIGINAL-URL:https://brmtcanada.com
X-WR-CALDESC:Events for BRMT Canada
REFRESH-INTERVAL;VALUE=DURATION:PT1H
X-Robots-Tag:noindex
X-PUBLISHED-TTL:PT1H
BEGIN:VTIMEZONE
TZID:America/Toronto
BEGIN:DAYLIGHT
TZOFFSETFROM:-0500
TZOFFSETTO:-0400
TZNAME:EDT
DTSTART:20200308T070000
END:DAYLIGHT
BEGIN:STANDARD
TZOFFSETFROM:-0400
TZOFFSETTO:-0500
TZNAME:EST
DTSTART:20201101T060000
END:STANDARD
BEGIN:DAYLIGHT
TZOFFSETFROM:-0500
TZOFFSETTO:-0400
TZNAME:EDT
DTSTART:20210314T070000
END:DAYLIGHT
BEGIN:STANDARD
TZOFFSETFROM:-0400
TZOFFSETTO:-0500
TZNAME:EST
DTSTART:20211107T060000
END:STANDARD
BEGIN:DAYLIGHT
TZOFFSETFROM:-0500
TZOFFSETTO:-0400
TZNAME:EDT
DTSTART:20220313T070000
END:DAYLIGHT
BEGIN:STANDARD
TZOFFSETFROM:-0400
TZOFFSETTO:-0500
TZNAME:EST
DTSTART:20221106T060000
END:STANDARD
BEGIN:DAYLIGHT
TZOFFSETFROM:-0500
TZOFFSETTO:-0400
TZNAME:EDT
DTSTART:20230312T070000
END:DAYLIGHT
BEGIN:STANDARD
TZOFFSETFROM:-0400
TZOFFSETTO:-0500
TZNAME:EST
DTSTART:20231105T060000
END:STANDARD
BEGIN:DAYLIGHT
TZOFFSETFROM:-0500
TZOFFSETTO:-0400
TZNAME:EDT
DTSTART:20240310T070000
END:DAYLIGHT
BEGIN:STANDARD
TZOFFSETFROM:-0400
TZOFFSETTO:-0500
TZNAME:EST
DTSTART:20241103T060000
END:STANDARD
BEGIN:DAYLIGHT
TZOFFSETFROM:-0500
TZOFFSETTO:-0400
TZNAME:EDT
DTSTART:20250309T070000
END:DAYLIGHT
BEGIN:STANDARD
TZOFFSETFROM:-0400
TZOFFSETTO:-0500
TZNAME:EST
DTSTART:20251102T060000
END:STANDARD
END:VTIMEZONE
BEGIN:VEVENT
DTSTART;VALUE=DATE:20240320
DTEND;VALUE=DATE:20240325
DTSTAMP:20260425T142616
CREATED:20230902T220652Z
LAST-MODIFIED:20230902T221041Z
UID:3126-1710892800-1711324799@brmtcanada.com
SUMMARY:BRMT Level One: Rhythmic Movement Training and Primitive Reflexes (In Person)
DESCRIPTION:Level 1 is a comprehensive introduction to Blomberg Rhythmic Movement Training. In this 16-hour course\, participants learn the basics of BRMT including how to test 6 primitive reflexes\, as well as learn and practice a series of rhythmic movements and isometric pressure techniques to integrate them. Integrating reflexes regulates muscle tone and stimulates the brain\, improving attention\, impulse control\, and physical development. \nThis course held in Kitchener\, involves a combination of theory and practice. Reflexes covered include\, but not limited to: Tonic Labyrinthine Reflex (TLR)\, Symmetrical Tonic Neck Reflex (STNR) and Babinski. \nNo previous experience required. \nCourse location: \nKitchener Waterloo Region \nCourse instructor: \nLiz Jones-Twomey \nCourse dates & times: \nMarch 20: 6:00 – 9:00pm (Theory Online)March 23: 9:00am to 5:00pm (In Person)March 24: 9:00am to 5:00pm (In Person) \nCourse cost:  \nEarly Bird Price — $450.00(If you register by February 18\, 2024) \nRegular Price — $475.00 \nReview Price — $275.00*proof of certificate in BRMT training required \n$100 non-refundable deposit is required. \nRegistration:  \nRegistration deadline is March 6\, 2024.  \nPrerequisite: None \nTwo registration options: \n\nClick the Register button below and pay by credit card\nContact Liz at jonestwomey@rogers.com to register and pay by e-transfer\n\n			\n				Register
URL:https://brmtcanada.com/event/level-one-march-2024/
CATEGORIES:BRMT Level One,BRMT Levels
END:VEVENT
BEGIN:VEVENT
DTSTART;VALUE=DATE:20230929
DTEND;VALUE=DATE:20231001
DTSTAMP:20260425T142616
CREATED:20230718T195055Z
LAST-MODIFIED:20230817T215524Z
UID:3074-1695945600-1696118399@brmtcanada.com
SUMMARY:BRMT Level One: Rhythmic Movement Training and Primitive Reflexes (In Person\, Mississauga\, ON)
DESCRIPTION:Level 1 is a comprehensive introduction to Blomberg Rhythmic Movement Training. In this 16-hour course\, participants learn the basics of BRMT including how to test 6 primitive reflexes\, as well as learn and practice a series of rhythmic movements and isometric pressure techniques to integrate them. Integrating reflexes regulates muscle tone and stimulates the brain\, improving attention\, impulse control\, and physical development. \n\nThis course held in Calgary\, involves a combination of theory and practice. Reflexes covered include\, but not limited to: Tonic Labyrinthine Reflex (TLR)\, Symmetrical Tonic Neck Reflex (STNR) and Babinski. \nDate: Sept. 29th & 30th\, 2023\nTime: 9am – 5pm EST\nCourse instructor: Lori Westlake\nCourse location: Mississauga\, ON \n\n\n2 Registration options:\nEventbrite: https://www.eventbrite.com/cc/brmt-courses-174339?utm-campaign=social&utm-content=creatorshare&utm-medium=discovery&utm-term=odclsxcollection&utm-source=cp&aff=escb\n\nOr contact Lori at lori.westlake@skyhighlearning.ca to register and pay
URL:https://brmtcanada.com/event/brmt-level-one-rhythmic-movement-training-and-primitive-reflexes-in-person-mississauga-on/
CATEGORIES:BRMT Level One
END:VEVENT
BEGIN:VEVENT
DTSTART;TZID=America/Toronto:20230710T090000
DTEND;TZID=America/Toronto:20230713T173000
DTSTAMP:20260425T142616
CREATED:20221222T195212Z
LAST-MODIFIED:20230506T172432Z
UID:2905-1688979600-1689269400@brmtcanada.com
SUMMARY:BRMT Canada’s Summer Learning
DESCRIPTION:Join us for four days of fantastic learning in Dundas\, Ontario. \nJuly 10 & 11: \n\nBRMT Level 1 | Instructor: Tanya Mouland\nBRMT Level 3 | Instructor: Liz Jones-Twomey\n\nJuly 12 & 13:  \n\nBRMT Level 2 | Instructor: Lori Westlake\nBRMT for Early Childhood Education | Instructor: Liz Jones-Twomey\n\nEach course is two full days\, 9:00am – 5:30pm. \nTake Advantage of Early Bird Pricing until June 12\, 2023. \nAll courses provide light snacks\, water\, and manual. \nParticipants will need to bring a lunch\, yoga mat or massage table (if possible) and wear comfortable clothing. \nLocation: Christ Church Flamborough\, 92 Highway #8\, Dundas\, Ontario L9H 4V5. \nEmail for more information: info@brmtcanada.com \n			\n				Register for BRMT Level 1\n			\n				Register for BRMT Level 2\n			\n				Register for BRMT Level 3\n			\n				Register for BRMT for Early Childhood Education\n			\n				\n				\n				\n				\n				Refund Policy \n\nA full refund will be given up to 10 business days prior to the training session/workshop start date.\nA 50% refund will be given for cancellations made 9 to 5 business days prior to the training session/workshop start date.\nNo refund will be granted for cancellations made within 4 business days of the training session/workshop start date.\nNo refunds will be given for No Shows as defined above.\nA full refund will be provided in the event a training session/workshop has been cancelled (Minimum of 4 participants required per course)
URL:https://brmtcanada.com/event/summer-learning/
CATEGORIES:BRMT for Early Childhood Education,BRMT Level One,BRMT Level Three,BRMT Level Two,BRMT Levels
END:VEVENT
BEGIN:VEVENT
DTSTART;VALUE=DATE:20230619
DTEND;VALUE=DATE:20230621
DTSTAMP:20260425T142616
CREATED:20230425T004710Z
LAST-MODIFIED:20230718T194807Z
UID:3020-1687132800-1687305599@brmtcanada.com
SUMMARY:BRMT Level One: Rhythmic Movement Training and Primitive Reflexes (In Person\, Calgary\, AB)
DESCRIPTION:Level 1 is a comprehensive introduction to Blomberg Rhythmic Movement Training. In this 16-hour course\, participants learn the basics of BRMT including how to test 6 primitive reflexes\, as well as learn and practice a series of rhythmic movements and isometric pressure techniques to integrate them. Integrating reflexes regulates muscle tone and stimulates the brain\, improving attention\, impulse control\, and physical development. \n\nThis course held in Calgary\, involves a combination of theory and practice. Reflexes covered include\, but not limited to: Tonic Labyrinthine Reflex (TLR)\, Symmetrical Tonic Neck Reflex (STNR) and Babinski. \nDate: June 19 – 20\, 2023\nTime: 9am – 5pm EST\nCourse instructor: Lori Westlake\nCourse location: Calgary\, Alberta \nTo register click here.
URL:https://brmtcanada.com/event/brmt-level-one-june-2023/
CATEGORIES:BRMT Level One,BRMT Levels
END:VEVENT
BEGIN:VEVENT
DTSTART;TZID=America/Toronto:20230218T090000
DTEND;TZID=America/Toronto:20230219T163000
DTSTAMP:20260425T142616
CREATED:20230212T140028Z
LAST-MODIFIED:20230213T184017Z
UID:2872-1676710800-1676824200@brmtcanada.com
SUMMARY:BRMT Level One In Person: Rhythmic Movement Training and Primitive Reflexes
DESCRIPTION:In this 2 day online or in-person course participants will learn the basics of Rhythmic Movement Training and how to test for 6 primitive reflexes. Through theory and practice\, participants will learn 5 passive movements\, 13 active movements and 4 Isometric techniques to help integrate reflexes. \nParticipants will gain an understanding of how rhythmic exercises can be utilized to improve muscle tone and stimulate the brain to improve attention\, emotional regulation challenges\, learning delays\, motor abilities and support many more challenges. \nThis course is ideal for physical and occupational therapists\, tutors\, educational therapists\, counsellors\, therapists\, parents\, developmental optometrists\, massage therapists\, classroom and special education teachers\, ECE’s and caregivers. \nNo previous experience required. \nCourse location: \nIn-person class in Kitchener \nCourse date & time: \nFebruary 18: 9:00am to 4:30pm EST\,February 19: 9:00am to 4:30pm EST \nCourse cost:  \nEarly Bird Price — $445.00(If you register by January 15\, 2023) \nRegular Price — $475.00 \nReview Price — $275.00*proof of certificate in BRMT training required \n$100 non-refundable deposit is required. \nRegistration deadline is February 15\, 2023 \nNo previous experience required. \n			\n				Register
URL:https://brmtcanada.com/event/level-one-feb-2022/
CATEGORIES:BRMT Level One,BRMT Levels
END:VEVENT
BEGIN:VEVENT
DTSTART;VALUE=DATE:20230121
DTEND;VALUE=DATE:20230123
DTSTAMP:20260425T142616
CREATED:20220921T164226Z
LAST-MODIFIED:20221005T172624Z
UID:2843-1674259200-1674431999@brmtcanada.com
SUMMARY:BRMT Level One: Rhythmic Movement Training and Primitive Reflexes (In Person)
DESCRIPTION:Level 1 is a comprehensive introduction to Blomberg Rhythmic Movement Training. In this 16-hour course\, participants learn the basics of BRMT including how to test 6 primitive reflexes\, as well as learn and practice a series of rhythmic movements and isometric pressure techniques to integrate them. Integrating reflexes regulates muscle tone and stimulates the brain\, improving attention\, impulse control\, physical development. \nThis course involves a combination of theory and practice. Reflexes covered include\, but not limited to: Tonic Labyrinthine Reflex (TLR)\, Symmetrical Tonic Neck Reflex (STNR) and Babinski. \nCourse instructor: Lori Westlake \nCourse location:Mississauga \nTo register go to: https://www.eventbrite.ca/e/blomberg-rhythmic-movement-training-level-1-tickets-423485034137 \n 
URL:https://brmtcanada.com/event/brmt-level-one-rhythmic-movement-training-and-primitive-reflexes-in-person/
CATEGORIES:BRMT Level One
END:VEVENT
BEGIN:VEVENT
DTSTART;VALUE=DATE:20221126
DTEND;VALUE=DATE:20221128
DTSTAMP:20260425T142616
CREATED:20221007T170456Z
LAST-MODIFIED:20221007T170456Z
UID:2863-1669420800-1669593599@brmtcanada.com
SUMMARY:Blomberg Rhythmic Movement Training (BRMT) Level 1 - Toronto\, in-person
DESCRIPTION:https://www.eventbrite.ca/e/blomberg-rhythmic-movement-training-brmt-level-1-toronto-in-person-tickets-435722586987\n\n\n\n\n\n\n\n\n\nBlomberg Rhythmic Movement Training (BRMT) Level 1 – Toronto\, in-person\nExperience a comprehensive introduction to Blomberg Rhythmic Movement Training with focus on primitive reflexes related to ADD/ADHD\nwww.eventbrite.ca
URL:https://brmtcanada.com/event/blomberg-rhythmic-movement-training-brmt-level-1-toronto-in-person/
CATEGORIES:BRMT Level One
END:VEVENT
BEGIN:VEVENT
DTSTART;TZID=America/Toronto:20221021T090000
DTEND;TZID=America/Toronto:20221023T150000
DTSTAMP:20260425T142616
CREATED:20220708T011645Z
LAST-MODIFIED:20240215T152528Z
UID:2754-1666342800-1666537200@brmtcanada.com
SUMMARY:BRMT Level One Online and In Person: Rhythmic Movement Training and Primitive Reflexes
DESCRIPTION:In this 3-day online or in-person course participants will learn the basics of Rhythmic Movement Training and how to test for 6 primitive reflexes. Through theory and practice\, participants will learn 5 passive movements\, 13 active movements and 4 Isometric techniques to help integrate reflexes. \nParticipants will gain an understanding of how rhythmic exercises can be utilized to improve muscle tone and stimulate the brain to improve attention\, emotional regulation challenges\, learning delays\, motor abilities and support many more challenges. \nThis course is ideal for physical and occupational therapists\, counsellors\, therapists\, parents\, developmental optometrists\, massage therapists\, classroom and special education teachers\, ECE’s and caregivers. \nNo previous experience required. \nCourse location: \nOnline or in-person class in Kitchener / Waterloo region \nCourse date & time: \nOctober 21: 9:00am to 3:00pm EST\,October 22: 9:00am to 3:00pm EST\, andOctober 23: 9:00am to 3:00pm EST  \nDuring the course Zoom times\, you will need to have someone at your home to do the isometrics with. \nCourse cost:  \nEarly Bird Price — $445.00(If you register by September 30\, 2022) \nRegular Price — $475.00 \nReview Price — $275.00*proof of certificate in BRMT training required \nPrice includes cost for shipping manual to you in Canada. If course is taken in person\,$25.00 will be returned at course for mailing cost reimbursement. \nAn additional fee of $25.00 is required if shipping manual outside of Canada (pay via Paypal). \n$100 non-refundable deposit is required. \nRegistration deadline is October 7\, 2022 so manuals can be mailed to participants. \nNo previous experience required. \n			\n				Register
URL:https://brmtcanada.com/event/level-one-october-2022/
CATEGORIES:BRMT Level One,BRMT Levels
END:VEVENT
BEGIN:VEVENT
DTSTART;VALUE=DATE:20220917
DTEND;VALUE=DATE:20220919
DTSTAMP:20260425T142616
CREATED:20220621T015603Z
LAST-MODIFIED:20220712T133201Z
UID:2730-1663372800-1663545599@brmtcanada.com
SUMMARY:Blomberg Rhythmic Movement Training Level One (In Person)
DESCRIPTION:Level 1: September 17 & 18\, 2022 \nLevel 1 is a comprehensive introduction to Blomberg Rhythmic Movement Training. In this 16-hour course\, participants learn the basics of BRMT including how to test 6 primitive reflexes\, as well as learn and practice a series of rhythmic movements and isometric pressure techniques to integrate them. Integrating reflexes regulates muscle tone and stimulates the brain\, improving attention\, impulse control\, physical development. \nThis course involves a combination of theory and practice. Reflexes covered include\, but not limited to: Tonic Labyrinthine Reflex (TLR)\, Symmetrical Tonic Neck Reflex (STNR) and Babinski. \nCourse instructor: Lori Westlake \nCourse location:Mississauga \nTo register go to: https://www.eventbrite.ca/e/blomberg-rhythmic-movement-training-level-1-tickets-370537616987
URL:https://brmtcanada.com/event/blomberg-rhythmic-movement-training-level-one-in-person/
CATEGORIES:BRMT Level One,BRMT Levels
END:VEVENT
BEGIN:VEVENT
DTSTART;TZID=America/Toronto:20220813T093000
DTEND;TZID=America/Toronto:20220814T170000
DTSTAMP:20260425T142616
CREATED:20220406T185859Z
LAST-MODIFIED:20220407T170114Z
UID:2679-1660383000-1660496400@brmtcanada.com
SUMMARY:Blomberg Rhythmic Movement Training Level One (In Person)
DESCRIPTION:Level 1 is a comprehensive introduction to Blomberg Rhythmic Movement Training. In this 16-hour course\, participants learn the basics of BRMT including how to test 6 primitive reflexes\, as well as learn and practice a series of rhythmic movements and isometric pressure techniques to integrate them. Integrating reflexes regulates muscle tone and stimulates the brain\, improving attention\, impulse control\, physical development. \nThis course involves a combination of theory and practice. Reflexes covered include\, but not limited to: Tonic Labyrinthine Reflex (TLR)\, Symmetrical Tonic Neck Reflex (STNR) and Babinski. \nThis weekend in-person class happening in the GTA has 2 full days plus a 3-hour online component. \nCourse instructor: Tanya Mouland \nCourse location: GTA \nCourse date & time:\nAugust 13 & 14\n9:30 am – 5 pm each day\n+ 3- hour online theory component prior to in-person \nCourse investment:\n$445.00\, includes materials\nReview: $250\nNo previous experience required. \nClick here to go to Tanya’s Eventbrite page to register. 
URL:https://brmtcanada.com/event/brmt-level-one-august/
CATEGORIES:BRMT Level One
END:VEVENT
BEGIN:VEVENT
DTSTART;TZID=America/Toronto:20220618T093000
DTEND;TZID=America/Toronto:20220619T170000
DTSTAMP:20260425T142616
CREATED:20220406T172444Z
LAST-MODIFIED:20220407T165900Z
UID:2676-1655544600-1655658000@brmtcanada.com
SUMMARY:Blomberg Rhythmic Movement Training Level One (In Person)
DESCRIPTION:Level 1 is a comprehensive introduction to Blomberg Rhythmic Movement Training. In this 16-hour course\, participants learn the basics of BRMT including how to test 6 primitive reflexes\, as well as learn and practice a series of rhythmic movements and isometric pressure techniques to integrate them. Integrating reflexes regulates muscle tone and stimulates the brain\, improving attention\, impulse control\, physical development. \nThis course involves a combination of theory and practice. Reflexes covered include\, but not limited to: Tonic Labyrinthine Reflex (TLR)\, Symmetrical Tonic Neck Reflex (STNR) and Babinski. \nThis weekend in-person class happening in the GTA has 2 full days plus a 3-hour online component. \nCourse instructor: Tanya Mouland \nCourse location: GTA \nCourse date & time:\nJune 18 & 19\n9:30 am – 5 pm each day\n+ 3 hour online theory component prior to in-person \nCourse investment:\n$445.00\, includes materials\nReview: $250 \nNo previous experience required. \nClick here to go to Tanya’s Eventbrite page to register. 
URL:https://brmtcanada.com/event/brmt-level-one-june/
CATEGORIES:BRMT Level One
END:VEVENT
BEGIN:VEVENT
DTSTART;TZID=America/Toronto:20220503T180000
DTEND;TZID=America/Toronto:20220531T210000
DTSTAMP:20260425T142616
CREATED:20220321T223102Z
LAST-MODIFIED:20220407T165917Z
UID:2670-1651600800-1654030800@brmtcanada.com
SUMMARY:BRMT Level One Tuesday Nights
DESCRIPTION:Level 1 is a comprehensive introduction to Blomberg Rhythmic Movement Training. In this 16-hour course\, participants learn the basics of BRMT including how to test 6 primitive reflexes\, as well as learn and practice a series of rhythmic movements and isometric pressure techniques to integrate them. Integrating reflexes regulates muscle tone and stimulates the brain\, improving attention\, impulse control\, physical development. \nThis course involves a combination of theory and practice. Reflexes covered include\, but not limited to: Tonic Labyrinthine Reflex (TLR)\, Symmetrical Tonic Neck Reflex (STNR) and Babinski. \nThis weekend in-person class happening in the GTA has 2 full days plus a 3-hour online\ncomponent. \nCourse instructor: Tanya Mouland \nCourse location: Online \nCourse date & time:\nMay 3\, 10\, 17\, 24\, 31 (Tuesday evenings)\n6 pm – 9 pm EST\nCourse investment:\n$445.00\, includes materials\nReview: $250 \nNo previous experience required. \nClick here to go to Tanya’s Eventbrite page to register. 
URL:https://brmtcanada.com/event/brmt-level-one-may/
LOCATION:Online
CATEGORIES:BRMT Level One
END:VEVENT
BEGIN:VEVENT
DTSTART;TZID=America/Toronto:20220429T090000
DTEND;TZID=America/Toronto:20220430T173000
DTSTAMP:20260425T142616
CREATED:20211204T210047Z
LAST-MODIFIED:20220120T154620Z
UID:2542-1651222800-1651339800@brmtcanada.com
SUMMARY:BRMT Level One In-Person: Rhythmic Movement Training and Primitive Reflexes
DESCRIPTION:In this 2-day in person course\, participants learn the basics of Blomberg Rhythmic Movement Training including how rhythmic exercises can be utilized to regulate muscle tone and stimulate the brain\, in order to improve attention\, control of impulses\, and diminish hyperactivity. The course also examines the most important primitive reflexes and how to integrate them using rhythmic movements and isometric pressure. \nCourse location: \nSky High LearningMississauga\, Ontario \nCourse instructor: \nLori Westlake \nCourse date & time: \nApril 29: 9:00 AM – 5:30 PMApril 30: 9:00 AM – 5:30 PM  \nCourse cost:  \nEarly Bird Price — $420.00(If you register by June 4\, 2022) \nRegular Price — $445.00 \nReview Price — $250.00*proof of certificate in BRMT training required \n$100 non-refundable deposit is required. \nNo previous experience required. \nAfter clicking the Register button you will be brought to Lori’s Eventbrite page to pay for this course as she is the instructor.  \n \n			\n				Register
URL:https://brmtcanada.com/event/brmt-level-one-in-person-rhythmic-movement-training-and-primitive-reflexes/
CATEGORIES:BRMT Level One,BRMT Levels
END:VEVENT
BEGIN:VEVENT
DTSTART;TZID=America/Toronto:20220224T180000
DTEND;TZID=America/Toronto:20220324T210000
DTSTAMP:20260425T142616
CREATED:20211204T203543Z
LAST-MODIFIED:20220114T141340Z
UID:2538-1645725600-1648155600@brmtcanada.com
SUMMARY:BRMT Level One Thursdays nights
DESCRIPTION:Blomberg Rhythmic Movement Training (BRMT) Level 1 Tickets\, Thu Feb 24\, March 3\, March 10\, 17\, 24\, 2022 at 6:00 PM | Eventbrite\n** this is a weekly class for 5 weeks on Thursday 6 – 9 pm (Toronto time) ** ** February 24 and March 3\, 10\, 17\, 24\n** About the course: Level 1 is a comprehensive introduction to Blomberg Rhythmic Movement Training.\nwww.eventbrite.ca
URL:https://brmtcanada.com/event/brmt-level-one-thursdays-nights/
CATEGORIES:BRMT Level One
END:VEVENT
BEGIN:VEVENT
DTSTART;TZID=America/Toronto:20220205T090000
DTEND;TZID=America/Toronto:20220213T130000
DTSTAMP:20260425T142616
CREATED:20210123T030813Z
LAST-MODIFIED:20220113T164741Z
UID:2502-1644051600-1644757200@brmtcanada.com
SUMMARY:Blomberg Rhythmic Movement Training Level One online for ROMANIA
DESCRIPTION:Blomberg Rhythmic Movement Training Level One created by Dr. Harald Blomberg. \nFebruary 5\,6\, 12\, 13\, 9:00am to 1:00pm EST Toronto\, ON\, Canada \nInternational BRMT trainers-Liz Jones Twomey & Tanya Mouland.\nDetails-www.blomberg.com\nwww.blombergrmtcanada.com\nwww.haraldblomberg.com \nSign up at: brmtromania@gmail.com\nOn WhatsApp 0771709494\nLet’s see each other in Romania.\nCourse will be presented in english and translated into Romanian \nFormare BRMT – NIVEL II DE STUDIU\nBlomberg Rhythmic Movement Training\nInițiere – Reflexele Primitive in BRMT\nInițiatorul metodei- Dr. Harald Blomberg\nTrainer- Liz Jones Twomey & Tanya Mouland\, traineri internaționali BRMT M.\nDetalii- www.blomberg.com\nwww.blombergrmtcanada.com\nwww.haraldblomberg.com\nÎnscrieri și detalii:brmtromania@gmail.com\nPe WhatsApp- ul 0771709494\nSă ne vedem in număr cât mai mare \nhttps://www.facebook.com/events/436253017634346/?acontext=%7B%22event_action_history%22%3A[%7B%22surface%22%3A%22page%22%7D]%7D
URL:https://brmtcanada.com/event/blomberg-rhythmic-movement-training-level-one-online-for-romania/
CATEGORIES:BRMT Level One,BRMT Levels
END:VEVENT
BEGIN:VEVENT
DTSTART;TZID=America/Toronto:20220122T090000
DTEND;TZID=America/Toronto:20220130T130000
DTSTAMP:20260425T142616
CREATED:20211201T031647Z
LAST-MODIFIED:20220113T164742Z
UID:2505-1642842000-1643547600@brmtcanada.com
SUMMARY:BRMT Level One Online: Rhythmic Movement Training and Primitive Reflexes
DESCRIPTION:Jan. 22\, 23\, 29\, 30th; 9:00 to 1:00 Toronto Time\nRegistration deadline is January 15\, 2022 so manuals can be mailed to participants. \nParticipants will learn the basics of Rhythmic Movement Training and how to test for 6 primitive reflexes. Through theory and practice\, they will learn 5 passive movements\, 13 active movements and 4 Isometric techniques to help integrate reflexes.  \nParticipants will gain an understanding of how rhythmic exercises can be utilized to improve muscle tone\nand stimulate the brain to improve attention\, emotional regulation challenges\, learning delays\, motor abilities and support many more challenges. \nNote: At various times during the course\, you will need to have someone at your home to do the exercises with. One week prior to course\, estimated time breakdown for course content and partner work will be provided to assist with organizing partner work. \nThis course is deal for physical and occupational therapists\, counsellors\, therapists\, parents\, developmental optometrists\, massage therapists\, classroom and special education teachers\, ECE’s and caregivers. \nNo previous experience required. \nSUMMARY:\nDescription of ADHD-ADD.\nBrain development.\nBlomberg Rhythmic Movement Training\nThe brainstem and rhythmic movements.\nThe cerebellum and rhythmic movements.\nThe reptilian brain or basal ganglia and the integration of reflexes.\nThe motor development of the baby. \nPrimitive reflexes studied:\nTonic Labyrinthine Reflex (TLR)\nLandau Reflex\nSymmetrical Tonic Neck Reflex (STNR)\nSpinal Galant Reflex\nAmphibian Reflex.\nBabinski Reflex. \nRegistration deadline is January 15\, 2022 so manuals can be mailed to participants.
URL:https://brmtcanada.com/event/brmt-level-one-online-rhythmic-movement-training-and-primitive-reflexes/
CATEGORIES:BRMT Level One
END:VEVENT
BEGIN:VEVENT
DTSTART;TZID=America/Toronto:20211014T180000
DTEND;TZID=America/Toronto:20211111T213000
DTSTAMP:20260425T142616
CREATED:20210901T171835Z
LAST-MODIFIED:20220113T164742Z
UID:2422-1634234400-1636666200@brmtcanada.com
SUMMARY:BRMT Level One Online: Rhythmic Movement Training and Primitive Reflexes
DESCRIPTION:October 14\, 21\, 28 and November 4 and 11. Thursdays from 6 pm – 9:15 pm.  \nHere’s the link to register:\nhttps://www.eventbrite.ca/e/blomberg-rhythmic-movement-training-brmt-level-1-tickets-168779232227 \nBlomberg Rhythmic Movement Training (BRMT) Level 1\nExperience a comprehensive introduction to Blomberg Rhythmic Movement Training in this course focusing on reflexes related to ADD/ADHD\nwww.eventbrite.ca
URL:https://brmtcanada.com/event/brmt-level-one-online-oct/
CATEGORIES:BRMT Level One
END:VEVENT
BEGIN:VEVENT
DTSTART;TZID=America/Toronto:20211005T180000
DTEND;TZID=America/Toronto:20211026T213000
DTSTAMP:20260425T142616
CREATED:20210901T173857Z
LAST-MODIFIED:20220113T164742Z
UID:2425-1633456800-1635283800@brmtcanada.com
SUMMARY:BRMT Level One Online: Rhythmic Movement Training and Primitive Reflexes
DESCRIPTION:10\, 20September In this 4-day online course ( 3 to 4 hour sessions)\, participants learn the basics of Blomberg Rhythmic Movement Training including how rhythmic exercises can be utilized to regulate muscle tone and stimulate the brain\, in order to improve attention\, control of impulses\, and diminish hyperactivity. The course also examines the most important six primitive reflexes and how to integrate them using rhythmic movements and isometric pressure techniques. \nCourse location: \nOnline Zoom Class!  \nCourse date & time: \nTuesday October 5: 600 pm – 9:15 EST (Eastern Standard Time)\,Tuesday October 12: 600 pm – 9:15 EST\,Tuesday October 19: 600 pm – 9:15 EST\,Tuesday October 26: 600 pm – 9:15 EST. \nDuring the course Zoom times\, you will need to have someone at your home to do the isometrics with.  One week prior to course\, estimated time breakdown for course content and partner work will be provided to assist with organizing partner work. \nInvestment: \nEarly Bird Price — $410.00(If you register by September 10\, 2021) \nRegular Price — $435.00 \nReview Price — $250.00*proof of certificate in BRMT training required \nPrice includes cost for shipping manual to you in Canada.$100 non-refundable deposit is required. \nRegistration deadline is September 20\, 2021 so manuals can be mailed to participants. \nNo previous experience required. \n			\n				\n				\n				\n				\n				\n			\n				Register
URL:https://brmtcanada.com/event/brmt-level-one-online-sept/
CATEGORIES:BRMT Level One
END:VEVENT
END:VCALENDAR